BEGIN:VCALENDAR
VERSION:2.0
PRODID:-//Østjyllands Faldskærms Klub | ØFK - ECPv6.6.2//NONSGML v1.0//EN
CALSCALE:GREGORIAN
METHOD:PUBLISH
X-WR-CALNAME:Østjyllands Faldskærms Klub | ØFK
X-ORIGINAL-URL:https://oefk.dk
X-WR-CALDESC:Begivenheder for Østjyllands Faldskærms Klub | ØFK
REFRESH-INTERVAL;VALUE=DURATION:PT1H
X-Robots-Tag:noindex
X-PUBLISHED-TTL:PT1H
BEGIN:VTIMEZONE
TZID:Europe/Copenhagen
BEGIN:DAYLIGHT
TZOFFSETFROM:+0100
TZOFFSETTO:+0200
TZNAME:CEST
DTSTART:20240331T010000
END:DAYLIGHT
BEGIN:STANDARD
TZOFFSETFROM:+0200
TZOFFSETTO:+0100
TZNAME:CET
DTSTART:20241027T010000
END:STANDARD
END:VTIMEZONE
BEGIN:VEVENT
DTSTART;TZID=Europe/Copenhagen:20240907T080000
DTEND;TZID=Europe/Copenhagen:20240908T180000
DTSTAMP:20260423T034128
CREATED:20240819T200637Z
LAST-MODIFIED:20241029T163601Z
UID:506-1725696000-1725818400@oefk.dk
SUMMARY:Elev Weekend / C-Stævne
DESCRIPTION:Elever  \nVi har fuld instruktørdækning hele weekenden\, så der vil være mulighed for\, at både nye og eksisterende elever kan få alle de spring\, de ønsker – så længe vejret tillader det. Husk\, at nye elever skal tilmelde sig kurset via vores hjemmeside. Tilmeldingsblanketten til solokurset kan findes her:  \nElevtilmelding: Tilmeld dig her  \nNuværende elever og elever fra andre klubber bedes huske at medbringe gyldige certifikater og papirarbejde.  \nTandemspring  \nDer er også mulighed for tandemspring\, da vi har en tandemmaster til stede hele weekenden. Alle\, der ønsker at prøve et tandemspring\, kan tilmelde sig via tilmeldingsblanketten på vores hjemmeside eller ved at klikke på linket herunder:  \nTandemtilmelding: Book et tandemspring  \nC-springere  \nAlle C-springere er meget velkomne til at komme og springe sammen med os og skabe en hyggelig stemning på pladsen. 🎉  \nVi glæder os til at se både nye og gamle ansigter – og husk at tage det gode humør med!  \nBlue skies 🌞🪂 
URL:https://oefk.dk/kalender/elev-weekend-c-staevne/
LOCATION:Østjyllands Faldskærms Klub\, Ikastvej 7\, Ejstrupoholm\, Østjylland\, 7361\, Denmark
CATEGORIES:C-Stævne,Elevweekend
ORGANIZER;CN="%C3%98stjyllands Faldsk%C3%A6rms Klub":MAILTO:formandoefk@gmail.com
END:VEVENT
END:VCALENDAR