BEGIN:VCALENDAR
VERSION:2.0
PRODID:-//Østjyllands Faldskærms Klub | ØFK - ECPv6.6.2//NONSGML v1.0//EN
CALSCALE:GREGORIAN
METHOD:PUBLISH
X-ORIGINAL-URL:https://oefk.dk
X-WR-CALDESC:Begivenheder for Østjyllands Faldskærms Klub | ØFK
REFRESH-INTERVAL;VALUE=DURATION:PT1H
X-Robots-Tag:noindex
X-PUBLISHED-TTL:PT1H
BEGIN:VTIMEZONE
TZID:Europe/Copenhagen
BEGIN:DAYLIGHT
TZOFFSETFROM:+0100
TZOFFSETTO:+0200
TZNAME:CEST
DTSTART:20250330T010000
END:DAYLIGHT
BEGIN:STANDARD
TZOFFSETFROM:+0200
TZOFFSETTO:+0100
TZNAME:CET
DTSTART:20251026T010000
END:STANDARD
END:VTIMEZONE
BEGIN:VEVENT
DTSTART;TZID=Europe/Copenhagen:20250308T190000
DTEND;TZID=Europe/Copenhagen:20250308T210000
DTSTAMP:20260423T171726
CREATED:20241205T175632Z
LAST-MODIFIED:20250217T065105Z
UID:1400-1741460400-1741467600@oefk.dk
SUMMARY:Generalforsamling 2025
DESCRIPTION:Vi inviterer til generalforsamling i Østjyllands Faldskærms Klub! \n📅 Dato og tid:Generalforsamlingen afholdes lørdag d. 8. marts 2025 kl. 19:00 i klubhuset på Ejstrupholm Flyveplads. \n📋 Dagsorden:Dagsordenen kan findes herunder:📄 [Dagsorden – Tryk for at se] \n💡 Forslag til dagsordenen:Har du forslag til dagsordenen eller ønsker at stille ændringsforslag\, kan disse sendes til formanden via mail senest 14 dage før mødet:📧 formandoefk@gmail.com \n🏆 Årets ØFK’er 2024:Det er også tid til at kåre Årets ØFK’er 2024!Har du en kandidat\, som fortjener titlen? Send dit forslag til formandens mail senest fredag d. 22. februar 2025.📌 Bemærk: Medlemmer af den siddende bestyrelse kan ikke nomineres. \nVi håber at se så mange som muligt! \nMed venlig hilsen\,Østjyllands Faldskærms Klub
URL:https://oefk.dk/kalender/generalforsamling-2025/
LOCATION:Østjyllands Faldskærms Klub\, Ikastvej 7\, Ejstrupoholm\, Østjylland\, 7361\, Denmark
CATEGORIES:Arrangementer
ORGANIZER;CN="%C3%98stjyllands Faldsk%C3%A6rms Klub":MAILTO:formandoefk@gmail.com
END:VEVENT
END:VCALENDAR