BEGIN:VCALENDAR
VERSION:2.0
PRODID:-//Østjyllands Faldskærms Klub | ØFK - ECPv6.6.2//NONSGML v1.0//EN
CALSCALE:GREGORIAN
METHOD:PUBLISH
X-ORIGINAL-URL:https://oefk.dk
X-WR-CALDESC:Begivenheder for Østjyllands Faldskærms Klub | ØFK
REFRESH-INTERVAL;VALUE=DURATION:PT1H
X-Robots-Tag:noindex
X-PUBLISHED-TTL:PT1H
BEGIN:VTIMEZONE
TZID:Europe/Copenhagen
BEGIN:DAYLIGHT
TZOFFSETFROM:+0100
TZOFFSETTO:+0200
TZNAME:CEST
DTSTART:20250330T010000
END:DAYLIGHT
BEGIN:STANDARD
TZOFFSETFROM:+0200
TZOFFSETTO:+0100
TZNAME:CET
DTSTART:20251026T010000
END:STANDARD
END:VTIMEZONE
BEGIN:VEVENT
DTSTART;TZID=Europe/Copenhagen:20250329T080000
DTEND;TZID=Europe/Copenhagen:20250330T180000
DTSTAMP:20260422T035524
CREATED:20241206T113147Z
LAST-MODIFIED:20241206T113147Z
UID:1426-1743235200-1743357600@oefk.dk
SUMMARY:Elev Weekend / C-Stævne
DESCRIPTION:Elever\nVi har fuld instruktørdækning hele weekenden\, så der vil være mulighed for\, at både nye og eksisterende elever kan få alle de spring\, de ønsker – så længe vejret tillader det. Husk\, at nye elever skal tilmelde sig kurset via vores hjemmeside. Tilmeldingsblanketten til solokurset kan findes her: \nElevtilmelding: Tilmeld dig her \nNuværende elever og elever fra andre klubber bedes huske at medbringe gyldige certifikater og papirarbejde. \nC-springere\nAlle C-springere er meget velkomne til at komme og springe med og skabe en hyggelig stemning på pladsen. 🎉 \nVi glæder os til at se både nye og gamle ansigter – og husk at tage det gode humør med! \nBlue skies 🌞🪂
URL:https://oefk.dk/kalender/elev-weekend-c-staevne-2/
LOCATION:Østjyllands Faldskærms Klub\, Ikastvej 7\, Ejstrupoholm\, Østjylland\, 7361\, Denmark
CATEGORIES:C-Stævne,Elevweekend
ORGANIZER;CN="%C3%98stjyllands Faldsk%C3%A6rms Klub":MAILTO:formandoefk@gmail.com
END:VEVENT
END:VCALENDAR