BEGIN:VCALENDAR
VERSION:2.0
PRODID:-//Østjyllands Faldskærms Klub | ØFK - ECPv6.6.2//NONSGML v1.0//EN
CALSCALE:GREGORIAN
METHOD:PUBLISH
X-WR-CALNAME:Østjyllands Faldskærms Klub | ØFK
X-ORIGINAL-URL:https://oefk.dk
X-WR-CALDESC:Begivenheder for Østjyllands Faldskærms Klub | ØFK
REFRESH-INTERVAL;VALUE=DURATION:PT1H
X-Robots-Tag:noindex
X-PUBLISHED-TTL:PT1H
BEGIN:VTIMEZONE
TZID:Europe/Copenhagen
BEGIN:DAYLIGHT
TZOFFSETFROM:+0100
TZOFFSETTO:+0200
TZNAME:CEST
DTSTART:20240331T010000
END:DAYLIGHT
BEGIN:STANDARD
TZOFFSETFROM:+0200
TZOFFSETTO:+0100
TZNAME:CET
DTSTART:20241027T010000
END:STANDARD
END:VTIMEZONE
BEGIN:VEVENT
DTSTART;TZID=Europe/Copenhagen:20241123T080000
DTEND;TZID=Europe/Copenhagen:20241123T200000
DTSTAMP:20260426T055929
CREATED:20241002T125927Z
LAST-MODIFIED:20241110T222052Z
UID:1331-1732348800-1732392000@oefk.dk
SUMMARY:Arbejdsdag🛠️
DESCRIPTION:For at få styr på det sidste inden vinteren for alvor sætter ind\, afholder vi en arbejdsdag den 23. november 2024. Klubben sørger for gratis morgenmad\, frokost og aftensmad samt sodavand og kaffe til alle deltagere. Følgende opgaver skal udføres: \nUdendørs: \n\nMaling af de sidste vinduer på barsiden. ✔️\nMaling af vinduer og dør på bagsiden af klubhuset. ✔️\nAnden gangs maling af allerede malede vinduer. ✔️\nMontering af manglende lister på vinduet i teorilokalet. Listerne er allerede malet\, men skal saves til og monteres. ✔️\nMaling af riller bag facadepladerne på bagsiden af klubhuset.\nRydning af jord ved terrassehjørner for at forhindre ukrudt i at gro.\nLægning af de sidste fliser langs terrassen.\nAfretning af jordvold ved terrasse og fliser ved teoridøren (kræver minigraver).\nAfretning af jord på bagsiden af klubhuset (kræver minigraver).\nAfmontering og rengøring af tagrender samt genmontering.\nPålægning af materiale langs klubhusets fundament for at undgå bevoksning langs eternitpladerne.\nBeskæring af buske\, gyvel og træer bag klubhuset. ✔️\nBeskæring af buske\, gyvel og træer ved udtjekningsområdet bag klubben/lysningen. ✔️\nFældning af selvsåede småtræer på “øer” bag klubhuset. ✔️\nMontering af krydsfiner plade ved tilgang til under klubhuset. ✔️\nMontering af manglende alulister.\nMontering af manglende tagrende ender. ✔️\nAfmontering af gammel luft til vand varmepumpe.\nBortskaffelse af gammel luft til vand varmepumpe.\nVægmontering af ny luft til luft varmepumpe.’\nOpsætning af haltag/indækning til udedel af varmepumpe.\nGenerel oprydning og bortskaffelse af gammel ragelse.\n\nIndendørs: \n\nMaling af gulvlister.\nMaling af teorilokalet.\nOpbygning af ekstra køje i pilotrummet.\nMontering af opladestation til kamera\, mobil og PC’er.\nUdskiftning af udbrændte lysstofrør eller skift til LED.\nOprydning i tekniklokalet. ✔️\nGrundig gulvvask.\nGenerel oprydning og bortskaffelse af gammel ragelse.\nSkift af lås på ydre bagdør. ✔️\nAfmontering af elektronisk kodelås. ✔️\nMontering af kodelås til grejrum. ✔️\nMontering af opslagstavle. ✔️\nMontering af nøgleboks til bagdør. ✔️\nNedpilning og bortskaffelse af vægmonteret varmeblæser.\nMaling bag gammel varmeblæser.\nMontering af ny varmeblæser til luft til luft varmepumpe.\nJustering af lås på fordør. ✔️\nAfmontering af gammelt lydanlæg fra teori lokale.\nAfmontering af gammelt loftbeslag til projektor.\nMontering af ny blæser på badeværelse. ✔️\n\nVi håber\, at mange vil deltage og være med til at få klubben klargjort til vinteren og næste års springsæson. Tilmeld jer gerne på forhånd\, så vi kan planlægge forplejningen. Vi ser frem til en hyggelig og produktiv dag sammen!😊 \nDer er som altid mulighed for hygge i baren om aftenen🍺
URL:https://oefk.dk/kalender/arbejdsdag/
LOCATION:Østjyllands Faldskærms Klub\, Ikastvej 7\, Ejstrupoholm\, Østjylland\, 7361\, Denmark
CATEGORIES:Arrangementer
ORGANIZER;CN="%C3%98stjyllands Faldsk%C3%A6rms Klub":MAILTO:formandoefk@gmail.com
END:VEVENT
END:VCALENDAR