BEGIN:VCALENDAR
VERSION:2.0
PRODID:-//Østjyllands Faldskærms Klub | ØFK - ECPv6.6.2//NONSGML v1.0//EN
CALSCALE:GREGORIAN
METHOD:PUBLISH
X-WR-CALNAME:Østjyllands Faldskærms Klub | ØFK
X-ORIGINAL-URL:https://oefk.dk
X-WR-CALDESC:Begivenheder for Østjyllands Faldskærms Klub | ØFK
REFRESH-INTERVAL;VALUE=DURATION:PT1H
X-Robots-Tag:noindex
X-PUBLISHED-TTL:PT1H
BEGIN:VTIMEZONE
TZID:Europe/Copenhagen
BEGIN:DAYLIGHT
TZOFFSETFROM:+0100
TZOFFSETTO:+0200
TZNAME:CEST
DTSTART:20250330T010000
END:DAYLIGHT
BEGIN:STANDARD
TZOFFSETFROM:+0200
TZOFFSETTO:+0100
TZNAME:CET
DTSTART:20251026T010000
END:STANDARD
END:VTIMEZONE
BEGIN:VEVENT
DTSTART;TZID=Europe/Copenhagen:20250630T120000
DTEND;TZID=Europe/Copenhagen:20250705T000000
DTSTAMP:20260425T190624
CREATED:20250324T164608Z
LAST-MODIFIED:20250324T164656Z
UID:1504-1751284800-1751673600@oefk.dk
SUMMARY:ØFK Sommerlejr 2025
DESCRIPTION:Mere info kommer…
URL:https://oefk.dk/kalender/oefk-sommerlejr-2025/
LOCATION:Østjyllands Faldskærms Klub\, Ikastvej 7\, Ejstrupoholm\, Østjylland\, 7361\, Denmark
CATEGORIES:Arrangementer,C-Stævne,Elevweekend,Undervisning
ORGANIZER;CN="%C3%98stjyllands Faldsk%C3%A6rms Klub":MAILTO:formandoefk@gmail.com
END:VEVENT
END:VCALENDAR