BEGIN:VCALENDAR
VERSION:2.0
PRODID:-//Østjyllands Faldskærms Klub | ØFK - ECPv6.6.2//NONSGML v1.0//EN
CALSCALE:GREGORIAN
METHOD:PUBLISH
X-ORIGINAL-URL:https://oefk.dk
X-WR-CALDESC:Begivenheder for Østjyllands Faldskærms Klub | ØFK
REFRESH-INTERVAL;VALUE=DURATION:PT1H
X-Robots-Tag:noindex
X-PUBLISHED-TTL:PT1H
BEGIN:VTIMEZONE
TZID:Europe/Copenhagen
BEGIN:DAYLIGHT
TZOFFSETFROM:+0100
TZOFFSETTO:+0200
TZNAME:CEST
DTSTART:20260329T010000
END:DAYLIGHT
BEGIN:STANDARD
TZOFFSETFROM:+0200
TZOFFSETTO:+0100
TZNAME:CET
DTSTART:20261025T010000
END:STANDARD
END:VTIMEZONE
BEGIN:VEVENT
DTSTART;TZID=Europe/Copenhagen:20261010T100000
DTEND;TZID=Europe/Copenhagen:20261010T190000
DTSTAMP:20260424T101113
CREATED:20260127T172737Z
LAST-MODIFIED:20260127T181227Z
UID:1619-1791626400-1791658800@oefk.dk
SUMMARY:Elev Weekend / C-Stævne
DESCRIPTION:Elever\nVi har fuld instruktordækning hele weekenden\, så der vil være mulighed for\, at både nye og eksisterende elever kan få alle de spring\, de ønsker – så længe vejret tillader det. \nNuværende elever og elever fra andre klubber bedes huske at medbringe gyldige certifikater og papirarbejde. \nC-springere\nAlle C-springere er meget velkomne til at komme og springe med og skabe en hyggelig stemning på pladsen. 🎉 \nVi glæder os til at se både nye og gamle ansigter – og husk at tage det gode humør med! \nBlue skies 🌞🪂
URL:https://oefk.dk/kalender/elev-weekend-c-staevne-20/
LOCATION:Skydive Viborg\, Vedsøvej 10A\, Viborg\, Midtjylland\, 8800\, Denmark
CATEGORIES:C-Stævne,Elevweekend
END:VEVENT
BEGIN:VEVENT
DTSTART;TZID=Europe/Copenhagen:20261011T100000
DTEND;TZID=Europe/Copenhagen:20261011T190000
DTSTAMP:20260424T101113
CREATED:20260127T172737Z
LAST-MODIFIED:20260127T181227Z
UID:1620-1791712800-1791745200@oefk.dk
SUMMARY:Elev Weekend / C-Stævne
DESCRIPTION:Elever\nVi har fuld instruktordækning hele weekenden\, så der vil være mulighed for\, at både nye og eksisterende elever kan få alle de spring\, de ønsker – så længe vejret tillader det. \nNuværende elever og elever fra andre klubber bedes huske at medbringe gyldige certifikater og papirarbejde. \nC-springere\nAlle C-springere er meget velkomne til at komme og springe med og skabe en hyggelig stemning på pladsen. 🎉 \nVi glæder os til at se både nye og gamle ansigter – og husk at tage det gode humør med! \nBlue skies 🌞🪂
URL:https://oefk.dk/kalender/elev-weekend-c-staevne-21/
LOCATION:Skydive Viborg\, Vedsøvej 10A\, Viborg\, Midtjylland\, 8800\, Denmark
CATEGORIES:C-Stævne,Elevweekend
END:VEVENT
BEGIN:VEVENT
DTSTART;TZID=Europe/Copenhagen:20261024T100000
DTEND;TZID=Europe/Copenhagen:20261024T190000
DTSTAMP:20260424T101113
CREATED:20260127T175658Z
LAST-MODIFIED:20260127T181132Z
UID:1656-1792836000-1792868400@oefk.dk
SUMMARY:C-Stævne
DESCRIPTION:Alle C-springere er meget velkomne til at komme og springe med og skabe en hyggelig stemning på pladsen. 🎉 \nVi glæder os til at se både nye og gamle ansigter – og husk at tage det gode humør med! \nBlue skies 🌞🪂
URL:https://oefk.dk/kalender/c-staevne-14/
LOCATION:Skydive Viborg\, Vedsøvej 10A\, Viborg\, Midtjylland\, 8800\, Denmark
CATEGORIES:C-Stævne
END:VEVENT
BEGIN:VEVENT
DTSTART;TZID=Europe/Copenhagen:20261025T100000
DTEND;TZID=Europe/Copenhagen:20261025T190000
DTSTAMP:20260424T101114
CREATED:20260127T175658Z
LAST-MODIFIED:20260127T181132Z
UID:1657-1792922400-1792954800@oefk.dk
SUMMARY:C-Stævne
DESCRIPTION:Alle C-springere er meget velkomne til at komme og springe med og skabe en hyggelig stemning på pladsen. 🎉 \nVi glæder os til at se både nye og gamle ansigter – og husk at tage det gode humør med! \nBlue skies 🌞🪂
URL:https://oefk.dk/kalender/c-staevne-15/
LOCATION:Skydive Viborg\, Vedsøvej 10A\, Viborg\, Midtjylland\, 8800\, Denmark
CATEGORIES:C-Stævne
END:VEVENT
BEGIN:VEVENT
DTSTART;TZID=Europe/Copenhagen:20261106T180000
DTEND;TZID=Europe/Copenhagen:20261106T210000
DTSTAMP:20260424T101114
CREATED:20260127T173257Z
LAST-MODIFIED:20260127T181737Z
UID:1631-1793988000-1793998800@oefk.dk
SUMMARY:Undervisning af nye elever
DESCRIPTION:Nye elever\nVi starter fredag aften kl. 18 i klubbens undervisningslokaler med undervisning af nye elever. Husk\, at alle nye elever skal tilmelde sig solokurset via vores hjemmeside. Tilmeldingsblanketten kan findes her: \nElevtilmelding: Tilmeld dig her \nBlue skies 🌞🪂
URL:https://oefk.dk/kalender/undervisning-af-nye-elever-17/
LOCATION:Skydive Viborg\, Vedsøvej 10A\, Viborg\, Midtjylland\, 8800\, Denmark
CATEGORIES:Undervisning
END:VEVENT
BEGIN:VEVENT
DTSTART;TZID=Europe/Copenhagen:20261107T100000
DTEND;TZID=Europe/Copenhagen:20261107T190000
DTSTAMP:20260424T101114
CREATED:20260127T172738Z
LAST-MODIFIED:20260127T181227Z
UID:1621-1794045600-1794078000@oefk.dk
SUMMARY:Elev Weekend / C-Stævne
DESCRIPTION:Elever\nVi har fuld instruktordækning hele weekenden\, så der vil være mulighed for\, at både nye og eksisterende elever kan få alle de spring\, de ønsker – så længe vejret tillader det. \nNuværende elever og elever fra andre klubber bedes huske at medbringe gyldige certifikater og papirarbejde. \nC-springere\nAlle C-springere er meget velkomne til at komme og springe med og skabe en hyggelig stemning på pladsen. 🎉 \nVi glæder os til at se både nye og gamle ansigter – og husk at tage det gode humør med! \nBlue skies 🌞🪂
URL:https://oefk.dk/kalender/elev-weekend-c-staevne-22/
LOCATION:Skydive Viborg\, Vedsøvej 10A\, Viborg\, Midtjylland\, 8800\, Denmark
CATEGORIES:C-Stævne,Elevweekend
END:VEVENT
BEGIN:VEVENT
DTSTART;TZID=Europe/Copenhagen:20261108T100000
DTEND;TZID=Europe/Copenhagen:20261108T190000
DTSTAMP:20260424T101114
CREATED:20260127T172738Z
LAST-MODIFIED:20260127T181227Z
UID:1622-1794132000-1794164400@oefk.dk
SUMMARY:Elev Weekend / C-Stævne
DESCRIPTION:Elever\nVi har fuld instruktordækning hele weekenden\, så der vil være mulighed for\, at både nye og eksisterende elever kan få alle de spring\, de ønsker – så længe vejret tillader det. \nNuværende elever og elever fra andre klubber bedes huske at medbringe gyldige certifikater og papirarbejde. \nC-springere\nAlle C-springere er meget velkomne til at komme og springe med og skabe en hyggelig stemning på pladsen. 🎉 \nVi glæder os til at se både nye og gamle ansigter – og husk at tage det gode humør med! \nBlue skies 🌞🪂
URL:https://oefk.dk/kalender/elev-weekend-c-staevne-23/
LOCATION:Skydive Viborg\, Vedsøvej 10A\, Viborg\, Midtjylland\, 8800\, Denmark
CATEGORIES:C-Stævne,Elevweekend
END:VEVENT
BEGIN:VEVENT
DTSTART;TZID=Europe/Copenhagen:20261121T100000
DTEND;TZID=Europe/Copenhagen:20261121T190000
DTSTAMP:20260424T101114
CREATED:20260127T175712Z
LAST-MODIFIED:20260127T181147Z
UID:1658-1795255200-1795287600@oefk.dk
SUMMARY:C-Stævne
DESCRIPTION:Alle C-springere er meget velkomne til at komme og springe med og skabe en hyggelig stemning på pladsen. 🎉 \nVi glæder os til at se både nye og gamle ansigter – og husk at tage det gode humør med! \nBlue skies 🌞🪂
URL:https://oefk.dk/kalender/c-staevne-16/
LOCATION:Skydive Viborg\, Vedsøvej 10A\, Viborg\, Midtjylland\, 8800\, Denmark
CATEGORIES:C-Stævne
END:VEVENT
BEGIN:VEVENT
DTSTART;TZID=Europe/Copenhagen:20261122T100000
DTEND;TZID=Europe/Copenhagen:20261122T190000
DTSTAMP:20260424T101114
CREATED:20260127T175712Z
LAST-MODIFIED:20260127T181147Z
UID:1659-1795341600-1795374000@oefk.dk
SUMMARY:C-Stævne
DESCRIPTION:Alle C-springere er meget velkomne til at komme og springe med og skabe en hyggelig stemning på pladsen. 🎉 \nVi glæder os til at se både nye og gamle ansigter – og husk at tage det gode humør med! \nBlue skies 🌞🪂
URL:https://oefk.dk/kalender/c-staevne-17/
LOCATION:Skydive Viborg\, Vedsøvej 10A\, Viborg\, Midtjylland\, 8800\, Denmark
CATEGORIES:C-Stævne
END:VEVENT
BEGIN:VEVENT
DTSTART;TZID=Europe/Copenhagen:20261205T100000
DTEND;TZID=Europe/Copenhagen:20261206T130000
DTSTAMP:20260424T101114
CREATED:20260127T182529Z
LAST-MODIFIED:20260127T182529Z
UID:1712-1796464800-1796562000@oefk.dk
SUMMARY:Julefrokost 2026 og spring
DESCRIPTION:Så er det igen tid til årets julefrokost i ØFK!\n\nDet sker lørdag den 5. december kl. 18.00 i/på ??? \n\nTilmeld dig her\nKOMMER…\n\nPriserEarly bird 200 kr. (til xx/11)Standard 250 kr. (til xx/12)Late bird 350 kr. (efter xx/12)\n\nGlæd dig til god mad\, fest\, årsvideo og masser af hygge! 
URL:https://oefk.dk/kalender/julefrokost-2026-og-spring/
LOCATION:Midtjylland
CATEGORIES:Arrangementer
ORGANIZER;CN="%C3%98stjyllands Faldsk%C3%A6rms Klub":MAILTO:formandoefk@gmail.com
END:VEVENT
BEGIN:VEVENT
DTSTART;TZID=Europe/Copenhagen:20261219T100000
DTEND;TZID=Europe/Copenhagen:20261219T190000
DTSTAMP:20260424T101114
CREATED:20260127T175713Z
LAST-MODIFIED:20260127T181147Z
UID:1660-1797674400-1797706800@oefk.dk
SUMMARY:C-Stævne
DESCRIPTION:Alle C-springere er meget velkomne til at komme og springe med og skabe en hyggelig stemning på pladsen. 🎉 \nVi glæder os til at se både nye og gamle ansigter – og husk at tage det gode humør med! \nBlue skies 🌞🪂
URL:https://oefk.dk/kalender/c-staevne-18/
LOCATION:Skydive Viborg\, Vedsøvej 10A\, Viborg\, Midtjylland\, 8800\, Denmark
CATEGORIES:C-Stævne
END:VEVENT
BEGIN:VEVENT
DTSTART;TZID=Europe/Copenhagen:20261220T100000
DTEND;TZID=Europe/Copenhagen:20261220T190000
DTSTAMP:20260424T101114
CREATED:20260127T175713Z
LAST-MODIFIED:20260127T181147Z
UID:1661-1797760800-1797793200@oefk.dk
SUMMARY:C-Stævne
DESCRIPTION:Alle C-springere er meget velkomne til at komme og springe med og skabe en hyggelig stemning på pladsen. 🎉 \nVi glæder os til at se både nye og gamle ansigter – og husk at tage det gode humør med! \nBlue skies 🌞🪂
URL:https://oefk.dk/kalender/c-staevne-19/
LOCATION:Skydive Viborg\, Vedsøvej 10A\, Viborg\, Midtjylland\, 8800\, Denmark
CATEGORIES:C-Stævne
END:VEVENT
BEGIN:VEVENT
DTSTART;TZID=Europe/Copenhagen:20261227T100000
DTEND;TZID=Europe/Copenhagen:20261227T190000
DTSTAMP:20260424T101114
CREATED:20260127T183205Z
LAST-MODIFIED:20260127T183205Z
UID:1714-1798365600-1798398000@oefk.dk
SUMMARY:Julehygge / Spring 🎄🪂
DESCRIPTION:Vi holder julehygge på pladsen med mulighed for spring. \nKom og vær med til en hyggelig dag med god stemning\, kaffe og klub-hygge – alle er velkomne\, uanset om du springer eller bare kigger forbi. \nBlue skies og glædelig jul🌞🪂
URL:https://oefk.dk/kalender/julehygge-spring-%f0%9f%8e%84%f0%9f%aa%82/
LOCATION:Skydive Viborg\, Vedsøvej 10A\, Viborg\, Midtjylland\, 8800\, Denmark
CATEGORIES:Arrangementer,C-Stævne
END:VEVENT
END:VCALENDAR